BEGIN:VCALENDAR
VERSION:2.0
PRODID:-//ChamberMaster//Event Calendar 2.0//EN
METHOD:PUBLISH
X-PUBLISHED-TTL:P3D
REFRESH-INTERVAL:P3D
CALSCALE:GREGORIAN
BEGIN:VEVENT
DTSTART:20221210T200000Z
DTEND:20221211T000000Z
X-MICROSOFT-CDO-ALLDAYEVENT:FALSE
SUMMARY:12 Days of Christmas Shopping at Nostalgia Wines
DESCRIPTION:We want to make it easy for you to support local artisans and shop local this holiday season.\n\nIntroducing the 12 Days of Christmas Shopping at Nostalgia Wines!\n\nNostalgia Wines in Oliver has partnered with local artists to give them a retail space this December. Join us for a Memorable Wine Experience while you browse! We also make fabulous gift baskets and we offer complimentary giftwrapping of Nostalgia Wines bottles.\n\nNostalgia Wines is open all year and ready to help you prepare for Christmas! Join us from Tuesday through Sunday from noon to 4pm. We're open until Christmas Eve at 4pm for all your holiday wine needs!\n\n\n\nDAY 6 is Saturday\, December 10th featuring Swiss Miss MudHut and Shelby & Jun Woodworking.\nSwiss Miss MudHut makes unique wheel thrown pottery\, created with love and care by Annina on Anarchist Mountain.\n\n\n\nAlso on Anarchist Mountain\, Shelby & Jun Woodworking is Jennine's small business\, creating fun and bright wood signs\, tree ornaments\, crib boards\, charcuterie boards\, and all things wood.
X-ALT-DESC;FMTTYPE=text/html:<p><span style="font-family:verdana">We want to make it easy for you to support local artisans and shop local this holiday season.</span></p>\n\n<p><span style="font-family:verdana">Introducing the&nbsp\;<strong>12 Days of Christmas Shopping</strong>&nbsp\;at Nostalgia Wines!</span></p>\n\n<p><span style="font-family:verdana">Nostalgia Wines in Oliver has partnered with local artists to give them a retail space this December. Join us for a Memorable Wine Experience while you browse! We also make fabulous gift baskets and we offer complimentary giftwrapping of Nostalgia Wines bottles.</span></p>\n\n<p><span style="font-family:verdana">Nostalgia Wines is open all year and ready to help you prepare for Christmas! Join us from Tuesday through Sunday from noon to 4pm. We&rsquo\;re open until Christmas Eve at 4pm for all your holiday wine needs!<br />\n<br />\n<strong>DAY 6 is Saturday\, December 10th featuring Swiss Miss MudHut </strong><em>and </em><strong>Shelby &amp\; Jun Woodworking.</strong></span></p>\n<span style="color:rgb(35\, 35\, 35)\; font-family:century gothic\,centurygothic\,applegothic\,sans-serif\; font-size:15px">Swiss Miss MudHut makes unique wheel thrown pottery\, created with love and care by Annina on Anarchist Mountain.<br />\n<br />\nAlso on Anarchist Mountain\, Shelby &amp\; Jun Woodworking is Jennine&rsquo\;s small business\, creating fun and bright wood signs\, tree ornaments\, crib boards\, charcuterie boards\, and all things wood.</span>
LOCATION:Nostalgia Wines\, 398 Lupine Lane\, Oliver BC
UID:e.1841.6674
SEQUENCE:3
DTSTAMP:20260424T085925Z
URL:https://www.sochamber.ca/events/details/12-days-of-christmas-shopping-at-nostalgia-wines-12-10-2022-6674
END:VEVENT

END:VCALENDAR
