BEGIN:VCALENDAR
VERSION:2.0
PRODID:-//ChamberMaster//Event Calendar 2.0//EN
METHOD:PUBLISH
X-PUBLISHED-TTL:P3D
REFRESH-INTERVAL:P3D
CALSCALE:GREGORIAN
BEGIN:VEVENT
DTSTART:20221211T200000Z
DTEND:20221212T000000Z
X-MICROSOFT-CDO-ALLDAYEVENT:FALSE
SUMMARY:12 Days of Christmas Shopping at Nostalgia Wines
DESCRIPTION:We want to make it easy for you to support local artisans and shop local this holiday season.\n\nIntroducing the 12 Days of Christmas Shopping at Nostalgia Wines!\n\nNostalgia Wines in Oliver has partnered with local artists to give them a retail space this December. Join us for a Memorable Wine Experience while you browse! We also make fabulous gift baskets and we offer complimentary giftwrapping of Nostalgia Wines bottles.\n\nNostalgia Wines is open all year and ready to help you prepare for Christmas! Join us from Tuesday through Sunday from noon to 4pm. We're open until Christmas Eve at 4pm for all your holiday wine needs!\n\n\n\nDAY 7 is Sunday\, December 11th featuring The Curator.\nWina in Osoyoos curates art from the heart\, ethically made home decor and vintage style at The Curator. Plus she has some special jewellery coming in for holiday season gifting!
X-ALT-DESC;FMTTYPE=text/html:<p><span style="font-family:verdana">We want to make it easy for you to support local artisans and shop local this holiday season.</span></p>\n\n<p><span style="font-family:verdana">Introducing the&nbsp\;<strong>12 Days of Christmas Shopping</strong>&nbsp\;at Nostalgia Wines!</span></p>\n\n<p><span style="font-family:verdana">Nostalgia Wines in Oliver has partnered with local artists to give them a retail space this December. Join us for a Memorable Wine Experience while you browse! We also make fabulous gift baskets and we offer complimentary giftwrapping of Nostalgia Wines bottles.</span></p>\n\n<p><span style="font-family:verdana">Nostalgia Wines is open all year and ready to help you prepare for Christmas! Join us from Tuesday through Sunday from noon to 4pm. We&rsquo\;re open until Christmas Eve at 4pm for all your holiday wine needs!<br />\n<br />\n<strong>DAY 7 is Sunday\, December 11th featuring The Curator</strong><strong>.</strong></span></p>\n<span style="color:rgb(35\, 35\, 35)\; font-family:century gothic\,centurygothic\,applegothic\,sans-serif\; font-size:15px">Wina in Osoyoos curates art from the heart\, ethically made home decor and vintage style at The Curator. Plus she has some special jewellery coming in for holiday season gifting!</span>
LOCATION:Nostalgia Wines\, 398 Lupine Lane\, Oliver BC
UID:e.1841.6675
SEQUENCE:3
DTSTAMP:20260422T101658Z
URL:https://www.sochamber.ca/events/details/12-days-of-christmas-shopping-at-nostalgia-wines-12-11-2022-6675
END:VEVENT

END:VCALENDAR
