BEGIN:VCALENDAR
VERSION:2.0
PRODID:-//ChamberMaster//Event Calendar 2.0//EN
METHOD:PUBLISH
X-PUBLISHED-TTL:P3D
REFRESH-INTERVAL:P3D
CALSCALE:GREGORIAN
BEGIN:VEVENT
DTSTART:20210731T010000Z
DTEND:20210731T030000Z
X-MICROSOFT-CDO-ALLDAYEVENT:FALSE
SUMMARY:Bianca Berkland at Oliver Firehall Brewery
DESCRIPTION:Bianca Berkland is an exceptionally-gifted\, modern Jazz/Blues pianist and multi-instrumentalist\, songwriter and performer based out of Oliver\, BC. Her presence has been growing in the Okanagan region over the past 4 years performing jazz\, soul and pop\, and rock cover songs with a jazz influence ignited within her\, with an endless ambition to share her own wealth of beautiful\, original material.\n\nEVENT INFO:\n\nEntry by donation\, payable upon your arrival to the event.\n\nTables must be claimed by 5:30pm. At 6pm\, unclaimed tables will be released to walk-in customers.\n\nThis event is "rain or shine\," though extreme weather will trigger a cancellation. Event cancellation due to extreme weather will be notified by email and on the Facebook event page.\n\nTables are assigned by reservation online only.
X-ALT-DESC;FMTTYPE=text/html:<div class="kvgmc6g5 cxmmr5t8 oygrvhab hcukyx3x c1et5uql" style="overflow-wrap: break-word\; margin: 0px\; font-family: &quot\;Segoe UI Historic&quot\;\, &quot\;Segoe UI&quot\;\, Helvetica\, Arial\, sans-serif\; color: rgb(5\, 5\, 5)\; font-size: 15px\; animation-name: none !important\; transition-property: none !important\;">Bianca Berkland is an exceptionally-gifted\, modern Jazz/Blues pianist and multi-instrumentalist\, songwriter and performer based out of Oliver\, BC. Her presence has been growing in the Okanagan region over the past 4 years performing jazz\, soul and pop\, and rock cover songs with a jazz influence ignited within her\, with an endless ambition to share her own wealth of beautiful\, original material.</div>\n\n<div class="o9v6fnle cxmmr5t8 oygrvhab hcukyx3x c1et5uql" style="overflow-wrap: break-word\; margin: 0.5em 0px 0px\; font-family: &quot\;Segoe UI Historic&quot\;\, &quot\;Segoe UI&quot\;\, Helvetica\, Arial\, sans-serif\; color: rgb(5\, 5\, 5)\; font-size: 15px\; animation-name: none !important\; transition-property: none !important\;">EVENT INFO:</div>\n\n<div class="o9v6fnle cxmmr5t8 oygrvhab hcukyx3x c1et5uql" style="overflow-wrap: break-word\; margin: 0.5em 0px 0px\; font-family: &quot\;Segoe UI Historic&quot\;\, &quot\;Segoe UI&quot\;\, Helvetica\, Arial\, sans-serif\; color: rgb(5\, 5\, 5)\; font-size: 15px\; animation-name: none !important\; transition-property: none !important\;">Entry by donation\, payable upon your arrival to the event.</div>\n\n<div class="o9v6fnle cxmmr5t8 oygrvhab hcukyx3x c1et5uql" style="overflow-wrap: break-word\; margin: 0.5em 0px 0px\; font-family: &quot\;Segoe UI Historic&quot\;\, &quot\;Segoe UI&quot\;\, Helvetica\, Arial\, sans-serif\; color: rgb(5\, 5\, 5)\; font-size: 15px\; animation-name: none !important\; transition-property: none !important\;">Tables must be claimed by 5:30pm. At 6pm\, unclaimed tables will be released to walk-in customers.</div>\n\n<div class="o9v6fnle cxmmr5t8 oygrvhab hcukyx3x c1et5uql" style="overflow-wrap: break-word\; margin: 0.5em 0px 0px\; font-family: &quot\;Segoe UI Historic&quot\;\, &quot\;Segoe UI&quot\;\, Helvetica\, Arial\, sans-serif\; color: rgb(5\, 5\, 5)\; font-size: 15px\; animation-name: none !important\; transition-property: none !important\;">This event is &quot\;rain or shine\,&quot\; though extreme weather will trigger a cancellation. Event cancellation due to extreme weather will be notified by email and on the Facebook event page.</div>\n\n<div class="o9v6fnle cxmmr5t8 oygrvhab hcukyx3x c1et5uql" style="overflow-wrap: break-word\; margin: 0.5em 0px 0px\; font-family: &quot\;Segoe UI Historic&quot\;\, &quot\;Segoe UI&quot\;\, Helvetica\, Arial\, sans-serif\; color: rgb(5\, 5\, 5)\; font-size: 15px\; animation-name: none !important\; transition-property: none !important\;">Tables are assigned by reservation online only.</div>\n
LOCATION:Oliver Firehall Brewery (Downstairs) 6077 Main Street Oliver\, BC V0H 1T0
UID:e.1841.6432
SEQUENCE:3
DTSTAMP:20260422T175921Z
URL:https://www.sochamber.ca/events/details/bianca-berkland-at-oliver-firehall-brewery-6432
END:VEVENT

END:VCALENDAR
