BEGIN:VCALENDAR
VERSION:2.0
PRODID:-//ChamberMaster//Event Calendar 2.0//EN
METHOD:PUBLISH
X-PUBLISHED-TTL:P3D
REFRESH-INTERVAL:P3D
CALSCALE:GREGORIAN
BEGIN:VEVENT
DTSTART:20190613T003000Z
DTEND:20190613T020000Z
X-MICROSOFT-CDO-ALLDAYEVENT:FALSE
SUMMARY:BPB Boston Pizza Osoyoos
DESCRIPTION:The Business Promoting Business event is the best way to make \n\nconnections within the South Okanagan Business community.  \n\nBring your business cards & a door prize\, and be ready to network with your \n\nfellow members!
X-ALT-DESC;FMTTYPE=text/html:The Business Promoting Business event is the best way to make&nbsp\;<br />\nconnections within the South Okanagan Business community.&nbsp\;&nbsp\;<br />\nBring your business cards &amp\; a door prize\, and be ready to network with your&nbsp\;<br />\nfellow members!
LOCATION:
UID:e.1841.3357
SEQUENCE:3
DTSTAMP:20260420T225505Z
URL:https://www.sochamber.ca/events/details/bpb-boston-pizza-osoyoos-3357
END:VEVENT

END:VCALENDAR
