BEGIN:VCALENDAR
VERSION:2.0
PRODID:-//ChamberMaster//Event Calendar 2.0//EN
METHOD:PUBLISH
X-PUBLISHED-TTL:P3D
REFRESH-INTERVAL:P3D
CALSCALE:GREGORIAN
BEGIN:VEVENT
DTSTART:20181112T180000Z
DTEND:20181112T200000Z
X-MICROSOFT-CDO-ALLDAYEVENT:FALSE
SUMMARY:#FreeRideFriday Double O Bikes
DESCRIPTION:Join Double O bikes for a free shuttle (or ride back up to your vehicle) and free guided ride of our local trails.\n\nThis is a BYOB (bring your own bike) event. However a limited number of "Loaner' Bikes are available.\n\nLoaner bike quantities are limited and will require a donation be made to our Bikes for Xmas fund\, supporting local families in need.\n\nThe group will meet at Double O Bikes in Osoyoos at 10am on alternating Sundays and Mondays throughout the Fall Season.
X-ALT-DESC;FMTTYPE=text/html:<p style="box-sizing: border-box\; margin: 0px 0px 10px\; line-height: 1.7\; color: rgb(153\, 153\, 153)\; font-family: &quot\;Open Sans&quot\;\, Helvetica\, Arial\, sans-serif\; font-size: 15.2px\; background-color: rgb(255\, 255\, 255)\; text-align: center\;">Join Double O bikes for a free shuttle (or ride back up to your vehicle) and free guided ride of our local trails.</p>\n\n<p style="box-sizing: border-box\; margin: 0px 0px 10px\; line-height: 1.7\; color: rgb(153\, 153\, 153)\; font-family: &quot\;Open Sans&quot\;\, Helvetica\, Arial\, sans-serif\; font-size: 15.2px\; background-color: rgb(255\, 255\, 255)\; text-align: center\;">This is a BYOB (bring your own bike) event. However a limited number of &ldquo\;Loaner&rsquo\; Bikes are available.</p>\n\n<p style="box-sizing: border-box\; margin: 0px 0px 10px\; line-height: 1.7\; color: rgb(153\, 153\, 153)\; font-family: &quot\;Open Sans&quot\;\, Helvetica\, Arial\, sans-serif\; font-size: 15.2px\; background-color: rgb(255\, 255\, 255)\; text-align: center\;">Loaner bike quantities are limited and will require a donation be made to our Bikes for Xmas fund\, supporting local families in need.</p>\n\n<p style="box-sizing: border-box\; margin: 0px 0px 10px\; line-height: 1.7\; color: rgb(153\, 153\, 153)\; font-family: &quot\;Open Sans&quot\;\, Helvetica\, Arial\, sans-serif\; font-size: 15.2px\; background-color: rgb(255\, 255\, 255)\; text-align: center\;">The group will meet at Double O Bikes in Osoyoos at 10am on alternating Sundays and Mondays throughout the Fall Season.</p>\n
LOCATION:Double O Bikes 8905 Main Street\, Osoyoos\, BC
UID:e.1841.3273
SEQUENCE:3
DTSTAMP:20260424T141208Z
URL:https://www.sochamber.ca/events/details/freeridefriday-double-o-bikes-3273
END:VEVENT

END:VCALENDAR
