BEGIN:VCALENDAR
VERSION:2.0
PRODID:-//ChamberMaster//Event Calendar 2.0//EN
METHOD:PUBLISH
X-PUBLISHED-TTL:P3D
REFRESH-INTERVAL:P3D
CALSCALE:GREGORIAN
BEGIN:VEVENT
DTSTART:20260505T223000Z
DTEND:20260505T233000Z
X-MICROSOFT-CDO-ALLDAYEVENT:FALSE
SUMMARY:International Oyster Day at The Sonora Room
DESCRIPTION:In honour of International Oyster Day May 5th\, we invite you to join us on the sun-drenched patio of The Sonora Room Restaurant to launch our summer Oyster hour\, 3:30   4:30 pm\n\n\n\nSavour the briny excellence of fresh oysters paired perfectly with our premium estate wines\, all while taking in the breathtaking vistas of the Okanagan Valley. This afternoon gathering marks the debut of our Summer Oyster Hour\, which will continue every Saturday and Sunday from 3:30 pm to 4:30 pm through August 31st.
X-ALT-DESC;FMTTYPE=text/html:In honour of <strong>International Oyster Day May 5th</strong>\, we invite you to join us on the sun-drenched patio of The Sonora Room Restaurant to launch our summer Oyster hour\, 3:30 &ndash\; 4:30 pm<br />\n<br />\nSavour the briny excellence of fresh oysters paired perfectly with our premium estate wines\, all while taking in the breathtaking vistas of the Okanagan Valley. This afternoon gathering marks the debut of our <strong>Summer Oyster Hour</strong>\, which will continue every Saturday and Sunday from 3:30 pm to 4:30 pm through August 31st.
LOCATION:The Sonora Room Restaurant at Burrowing Owl Estate Winery
UID:e.1841.8045
SEQUENCE:3
DTSTAMP:20260425T013251Z
URL:https://www.sochamber.ca/events/details/international-oyster-day-at-the-sonora-room-8045
END:VEVENT

END:VCALENDAR
