BEGIN:VCALENDAR
VERSION:2.0
PRODID:-//ChamberMaster//Event Calendar 2.0//EN
METHOD:PUBLISH
X-PUBLISHED-TTL:P3D
REFRESH-INTERVAL:P3D
CALSCALE:GREGORIAN
BEGIN:VEVENT
DTSTART;VALUE=DATE:20231209
DTEND;VALUE=DATE:20231210
TRANSP:TRANSPARENT
X-MICROSOFT-CDO-ALLDAYEVENT:TRUE
SUMMARY:Kenny 'Blues Boss' Wayne Band
DESCRIPTION:Blues music icon Kenny "Blues Boss" Wayne has been selected as the 2023 recipient of the Jus' Blues Music Foundation's Bobby "Blue" Bland Lifetime Achievement Award.\n\n\nWith a career that spans more than 6 decades\, Wayne is known for his distinctive piano style and is a member of the Boogie-Woogie Piano Hall of Fame. He has also been recognized with two consecutive Living Blues Magazine Awards and a JUNO Award and is a multiple Maple Blues Award winner.\n\nWayne was presented with the award\, named for legendary blues singer Bobby "Blue" Bland\, on August 3rd at the Jus' Blues Music Awards "Night of the Living Legends" which was held at the Bluesville Music Hall in Tunica\, Mississippi.
X-ALT-DESC;FMTTYPE=text/html:<p class="subheading" style="box-sizing: border-box\; margin: 15px 0px\; color: rgb(54\, 54\, 54)\; font-family: brandon-grotesque\, sans-serif\; font-size: 20.7px\;">Blues music icon&nbsp\;<span style="box-sizing: border-box\; font-weight: 700\; line-height: 1\;">Kenny &ldquo\;Blues Boss&rdquo\; Wayne</span>&nbsp\;has been selected as the 2023 recipient of the Jus&rsquo\; Blues Music Foundation&rsquo\;s Bobby &ldquo\;Blue&rdquo\; Bland Lifetime Achievement Award.</p>\n\n<div class="description" style="box-sizing: border-box\; color: rgb(54\, 54\, 54)\; font-family: brandon-grotesque\, sans-serif\; font-size: 20.7px\;">\n<p style="box-sizing: border-box\; margin: 15px 0px\;">With a career that spans more than 6 decades\, Wayne is known for his distinctive piano style and is a member of the Boogie-Woogie Piano Hall of Fame. He has also been recognized with two consecutive Living Blues Magazine Awards and a JUNO Award and is a multiple Maple Blues Award winner.</p>\n\n<p style="box-sizing: border-box\; margin: 15px 0px\;">Wayne was presented with the award\, named for legendary blues singer Bobby &ldquo\;Blue&rdquo\; Bland\, on August 3rd at the Jus&rsquo\; Blues Music Awards &ldquo\;Night of the Living Legends&rdquo\; which was held at the Bluesville Music Hall in Tunica\, Mississippi.</p>\n</div>\n
LOCATION:Sonora Community Centre
UID:e.1841.6967
SEQUENCE:3
DTSTAMP:20260420T061027Z
URL:https://www.sochamber.ca/events/details/kenny-blues-boss-wayne-band-6967
END:VEVENT

END:VCALENDAR
