BEGIN:VCALENDAR
VERSION:2.0
PRODID:-//ChamberMaster//Event Calendar 2.0//EN
METHOD:PUBLISH
X-PUBLISHED-TTL:P3D
REFRESH-INTERVAL:P3D
CALSCALE:GREGORIAN
BEGIN:VEVENT
DTSTART:20190119T170000Z
DTEND:20190120T010000Z
X-MICROSOFT-CDO-ALLDAYEVENT:FALSE
SUMMARY:Retro Game Day
DESCRIPTION:Escap the snow and bundle up inside with a full-day gaming extravaganza!  Multiple TV's and game systems old and new will be set-up around the winery\, and guests are encouraged to stop in for a few hours\, play some classic games like Mario Kart of PacMan\, enjoy a bowl of soup and wine tasting\, and either compete in or watch an exciting tournament.
X-ALT-DESC;FMTTYPE=text/html:Escap the snow and bundle up inside with a full-day gaming extravaganza!&nbsp\; Multiple TV&#39\;s and game systems old and new will be set-up around the winery\, and guests are encouraged to stop in for a few hours\, play some classic games like Mario Kart of PacMan\, enjoy a bowl of soup and wine tasting\, and either compete in or watch an exciting tournament.
LOCATION:Intersection Estate Winery 450 Road 8 Oliver\, BC V0H 1T1
UID:e.1841.3382
SEQUENCE:3
DTSTAMP:20260420T064846Z
URL:https://www.sochamber.ca/events/details/retro-game-day-3382
END:VEVENT

END:VCALENDAR
