BEGIN:VCALENDAR
VERSION:2.0
PRODID:-//ChamberMaster//Event Calendar 2.0//EN
METHOD:PUBLISH
X-PUBLISHED-TTL:P3D
REFRESH-INTERVAL:P3D
CALSCALE:GREGORIAN
BEGIN:VEVENT
DTSTART:20210919T180000Z
DTEND:20210919T190000Z
X-MICROSOFT-CDO-ALLDAYEVENT:FALSE
SUMMARY:The Myrtle Sisters at Venables Theatre
DESCRIPTION:The Myrtle Sisters have just arrived from 1921 via a time machine! They were traveling about\, collecting\, learning and sharing historical songs and dance hits from the 20's\, 30s and 40s when something went wrong! Can the time machine be fixed?\n\nSince they've never been this far in the future\, the sisters decide to perform their numbers and collect their data. In an artistic exchange with the audience of the millennium they trade dance crazes such as the Charleston and the Shim-sham for ones from the current times.\n\nIn a story of independence and togetherness\, the sisters learn that they don't always have to agree\, but that they are stronger when they support each other. Will the Myrtle Sister's ever learn to get along? Can the audience help them harmonize once again and get back to 1919?
X-ALT-DESC;FMTTYPE=text/html:<p style="box-sizing: border-box\; margin: 15px 0px\; color: rgb(54\, 54\, 54)\; font-family: brandon-grotesque\, sans-serif\; font-size: 20.7px\;">The Myrtle Sisters have just arrived from 1921 via a time machine! They were traveling about\,&nbsp\;collecting\, learning and sharing historical songs and dance hits from the 20&rsquo\;s\, 30s and 40s when&nbsp\;something went wrong! Can the time machine be fixed?</p>\n\n<p style="box-sizing: border-box\; margin: 15px 0px\; color: rgb(54\, 54\, 54)\; font-family: brandon-grotesque\, sans-serif\; font-size: 20.7px\;">Since they&rsquo\;ve never been this far in the future\, the sisters decide to perform their numbers and collect their data. In an artistic exchange with the audience of the millennium they trade dance&nbsp\;crazes such as the Charleston and the Shim-sham for ones from the current times.</p>\n\n<p style="box-sizing: border-box\; margin: 15px 0px\; color: rgb(54\, 54\, 54)\; font-family: brandon-grotesque\, sans-serif\; font-size: 20.7px\;">In a story of independence and togetherness\, the sisters learn that they don&rsquo\;t always have to agree\, but that they are stronger when they support each other. Will the Myrtle Sister&rsquo\;s ever learn to get along? Can the audience help them harmonize once again and get back to 1919?</p>\n
LOCATION:Venables Theatre 6100 Gala Street Oliver\, BC V0H 1T0
UID:e.1841.6448
SEQUENCE:3
DTSTAMP:20260423T150731Z
URL:https://www.sochamber.ca/events/details/the-myrtle-sisters-at-venables-theatre-6448
END:VEVENT

END:VCALENDAR
